BEGIN:VCALENDAR
VERSION:2.0
PRODID:DPCALENDAR
CALSCALE:GREGORIAN
X-WR-TIMEZONE:UTC
BEGIN:VEVENT
DTSTART;VALUE=DATE:20220128
DTEND;VALUE=DATE:20220129
UID:22c206805a5fca7efc08b36d7953bfe0
SUMMARY:GV TSV Galgenen
DTSTAMP:20211019T195901Z
DESCRIPTION:
X-ALT-DESC;FMTTYPE=text/html:
LOCATION:Galgenen, Schwyz, Schweiz
GEO:47.18196380;8.87446050
X-ACCESS:1
X-MODIFIED:20220115T172746Z
X-HITS:609
X-URL:
X-COLOR:
END:VEVENT
END:VCALENDAR