BEGIN:VCALENDAR
VERSION:2.0
PRODID:DPCALENDAR
CALSCALE:GREGORIAN
X-WR-TIMEZONE:UTC
BEGIN:VEVENT
DTSTART;VALUE=DATE:20210918
DTEND;VALUE=DATE:20210919
UID:359ff4d7d9abe9be5cd2c55e62e83227
SUMMARY:Riegenausflug Damenriege
DTSTAMP:20210330T193518Z
DESCRIPTION:
X-ALT-DESC;FMTTYPE=text/html:
X-ACCESS:1
X-MODIFIED:20210419T181719Z
X-HITS:767
X-URL:
X-COLOR:
END:VEVENT
END:VCALENDAR