BEGIN:VCALENDAR
VERSION:2.0
PRODID:DPCALENDAR
CALSCALE:GREGORIAN
X-WR-TIMEZONE:UTC
BEGIN:VEVENT
DTSTART;VALUE=DATE:20210710
DTEND;VALUE=DATE:20210718
UID:f340aa47dbb0a292c40278065095023f
SUMMARY:Sommerlager
DTSTAMP:20210330T190106Z
DESCRIPTION:
X-ALT-DESC;FMTTYPE=text/html:
LOCATION:Schwellbrunn, Appenzell Ausserrhoden, Schweiz
GEO:47.35428720;9.24892710
X-ACCESS:1
X-MODIFIED:20210409T132150Z
X-HITS:766
X-URL:
X-COLOR:
END:VEVENT
END:VCALENDAR