BEGIN:VCALENDAR
VERSION:2.0
PRODID:DPCALENDAR
CALSCALE:GREGORIAN
X-WR-TIMEZONE:UTC
BEGIN:VEVENT
DTSTART;VALUE=DATE:20210703
DTEND;VALUE=DATE:20210704
UID:80fad3dbfb85bff37902ca5bf1a62c1c
SUMMARY:Sportler Gala SKS Sportverband
DTSTAMP:20210330T185949Z
DESCRIPTION:
X-ALT-DESC;FMTTYPE=text/html:
LOCATION:Rothenthurm, Schwyz, Schweiz
GEO:47.10499990;8.67674000
X-ACCESS:1
X-MODIFIED:20210330T190016Z
X-HITS:730
X-URL:
X-COLOR:
END:VEVENT
END:VCALENDAR