BEGIN:VCALENDAR
VERSION:2.0
PRODID:DPCALENDAR
CALSCALE:GREGORIAN
X-WR-TIMEZONE:UTC
BEGIN:VEVENT
DTSTART;VALUE=DATE:20210410
DTEND;VALUE=DATE:20210411
UID:55902091cab075d3ad1988b4b9db468b
SUMMARY:Papiersammlung
DTSTAMP:20210330T184537Z
DESCRIPTION:
X-ALT-DESC;FMTTYPE=text/html:
LOCATION:Galgenen, Schwyz, Schweiz
GEO:47.18196380;8.87446050
X-ACCESS:1
X-MODIFIED:20210330T185440Z
X-HITS:701
X-URL:
X-COLOR:
END:VEVENT
END:VCALENDAR