BEGIN:VCALENDAR
VERSION:2.0
PRODID:DPCALENDAR
CALSCALE:GREGORIAN
X-WR-TIMEZONE:UTC
BEGIN:VEVENT
DTSTART;VALUE=DATE:20201017
DTEND;VALUE=DATE:20201018
UID:42f8f7c62fd43bebf99590e7c07ade6a
SUMMARY:Papiersammlung
DTSTAMP:20191214T105558Z
DESCRIPTION:
X-ALT-DESC;FMTTYPE=text/html:
LOCATION:Galgenen, Schwyz, Schweiz
GEO:47.18196380;8.87446050
X-ACCESS:1
X-MODIFIED:20191214T171355Z
X-HITS:955
X-URL:
X-COLOR:
END:VEVENT
END:VCALENDAR