BEGIN:VCALENDAR
VERSION:2.0
PRODID:DPCALENDAR
CALSCALE:GREGORIAN
X-WR-TIMEZONE:UTC
BEGIN:VEVENT
DTSTART;VALUE=DATE:20200628
DTEND;VALUE=DATE:20200629
UID:77dda146421c5c09d926428e150e4696
SUMMARY:Jugendturnfest
DTSTAMP:20191214T094821Z
DESCRIPTION:
X-ALT-DESC;FMTTYPE=text/html:
LOCATION:
X-ACCESS:1
X-MODIFIED:20191214T094916Z
X-HITS:1020
X-URL:
X-COLOR:
END:VEVENT
END:VCALENDAR