BEGIN:VCALENDAR
VERSION:2.0
PRODID:DPCALENDAR
CALSCALE:GREGORIAN
X-WR-TIMEZONE:UTC
BEGIN:VEVENT
DTSTART;VALUE=DATE:20200104
DTEND;VALUE=DATE:20200105
UID:d664cce9da0b907094ea22231b607a19
SUMMARY:2. Martinscup (Faustballturnier)
DTSTAMP:20191103T170708Z
DESCRIPTION:
X-ALT-DESC;FMTTYPE=text/html:
LOCATION:Galgenen, Schwyz, Schweiz
GEO:47.18196380;8.87446050
X-ACCESS:1
X-MODIFIED:20191103T170819Z
X-HITS:1110
X-URL:
X-COLOR:
END:VEVENT
END:VCALENDAR