BEGIN:VCALENDAR
VERSION:2.0
PRODID:DPCALENDAR
CALSCALE:GREGORIAN
X-WR-TIMEZONE:UTC
BEGIN:VEVENT
DTSTART;VALUE=DATE:20200124
DTEND;VALUE=DATE:20200125
UID:8c947865c484beec3e69c3bc8d226af4
SUMMARY:GV TSV Galgenen
DTSTAMP:20191103T170626Z
DESCRIPTION:
X-ALT-DESC;FMTTYPE=text/html:
LOCATION:Galgenen, Schwyz, Schweiz
GEO:47.18196380;8.87446050
X-ACCESS:1
X-MODIFIED:20191103T170808Z
X-HITS:1121
X-URL:
X-COLOR:
END:VEVENT
END:VCALENDAR