BEGIN:VCALENDAR
VERSION:2.0
PRODID:DPCALENDAR
CALSCALE:GREGORIAN
X-WR-TIMEZONE:UTC
BEGIN:VEVENT
DTSTART;VALUE=DATE:20191102
DTEND;VALUE=DATE:20191103
UID:8b76e094f2deee592d25fe69238250e7
SUMMARY:Violine meets Gymnastics
DTSTAMP:20181215T151503Z
DESCRIPTION:
X-ALT-DESC;FMTTYPE=text/html:
LOCATION:Galgenen, Schwyz, Schweiz
GEO:47.18196380;8.87446050
X-ACCESS:1
X-MODIFIED:20191022T113508Z
X-HITS:1900
X-URL:
X-COLOR:
END:VEVENT
END:VCALENDAR