BEGIN:VCALENDAR
VERSION:2.0
PRODID:DPCALENDAR
CALSCALE:GREGORIAN
X-WR-TIMEZONE:UTC
BEGIN:VEVENT
DTSTART;VALUE=DATE:20181123
DTEND;VALUE=DATE:20181124
UID:80808e413b6b2bf759848dfb6df2e236
SUMMARY:KSTV Volleyball-Turnier
DTSTAMP:20170102T200047Z
DESCRIPTION:
X-ALT-DESC;FMTTYPE=text/html:
LOCATION:Einsiedeln, Schwyz, Schweiz
GEO:47.12811610;8.74426900
X-ACCESS:1
X-MODIFIED:20180128T144711Z
X-HITS:1431
X-URL:
X-COLOR:
END:VEVENT
END:VCALENDAR