BEGIN:VCALENDAR
VERSION:2.0
PRODID:DPCALENDAR
CALSCALE:GREGORIAN
X-WR-TIMEZONE:UTC
BEGIN:VEVENT
DTSTART;VALUE=DATE:20181208
DTEND;VALUE=DATE:20181209
UID:7e7a8212f7a311bf0418c6aa912ec24e
SUMMARY:DV KSTV
DTSTAMP:20171208T213339Z
DESCRIPTION:
X-ALT-DESC;FMTTYPE=text/html:
LOCATION:Schübelbach, Schwyz, Schweiz
GEO:47.17389100;8.92828670
X-ACCESS:1
X-MODIFIED:20181121T200317Z
X-HITS:1224
X-URL:
X-COLOR:
END:VEVENT
END:VCALENDAR