BEGIN:VCALENDAR
VERSION:2.0
PRODID:DPCALENDAR
CALSCALE:GREGORIAN
X-WR-TIMEZONE:UTC
BEGIN:VEVENT
DTSTART;VALUE=DATE:20180922
DTEND;VALUE=DATE:20180924
UID:bbe0650225d089602c411176cc4e6cb9
SUMMARY:Schweizerfinal LMM Meisterschaften
DTSTAMP:20171208T211828Z
DESCRIPTION:
X-ALT-DESC;FMTTYPE=text/html:
LOCATION:Riehen, Basel-Stadt, Schweiz
GEO:47.58487530;7.64995840
X-ACCESS:1
X-MODIFIED:20180128T144459Z
X-HITS:1188
X-URL:
X-COLOR:
END:VEVENT
END:VCALENDAR