BEGIN:VCALENDAR
VERSION:2.0
PRODID:DPCALENDAR
CALSCALE:GREGORIAN
X-WR-TIMEZONE:UTC
BEGIN:VEVENT
DTSTART;VALUE=DATE:20270122
DTEND;VALUE=DATE:20270123
UID:6897740b23e4a3527b9b658f9f2eda43
SUMMARY:GV TSV
DTSTAMP:20260324T190007Z
DESCRIPTION:
X-ALT-DESC;FMTTYPE=text/html:
LOCATION:Galgenen, Schwyz, Schweiz
GEO:47.18196380;8.87446050
X-ACCESS:1
X-MODIFIED:20260324T190849Z
X-HITS:30
X-URL:
X-COLOR:
END:VEVENT
END:VCALENDAR