BEGIN:VCALENDAR
VERSION:2.0
PRODID:DPCALENDAR
CALSCALE:GREGORIAN
X-WR-TIMEZONE:UTC
BEGIN:VEVENT
DTSTART;VALUE=DATE:20260704
DTEND;VALUE=DATE:20260712
UID:f982002e3951f2f2357b57e84dba26d5
SUMMARY:Sommerlager
DTSTAMP:20251226T202142Z
DESCRIPTION:
X-ALT-DESC;FMTTYPE=text/html:
LOCATION:Waldstatt, Appenzell Ausserrhoden, Schweiz
GEO:47.35704200;9.28522560
X-ACCESS:1
X-MODIFIED:20260306T183643Z
X-HITS:345
X-URL:
X-COLOR:
END:VEVENT
END:VCALENDAR