BEGIN:VCALENDAR
VERSION:2.0
PRODID:DPCALENDAR
CALSCALE:GREGORIAN
X-WR-TIMEZONE:UTC
BEGIN:VEVENT
DTSTART;VALUE=DATE:20250627
DTEND;VALUE=DATE:20250628
UID:a832a0750011de8d6d0de42644c8ccc1
SUMMARY:UBS Kids Cup & schnällst Galgener 
DTSTAMP:20250101T195403Z
DESCRIPTION:
X-ALT-DESC;FMTTYPE=text/html:
LOCATION:Galgenen, Schwyz, Schweiz
GEO:47.18196380;8.87446050
X-ACCESS:1
X-MODIFIED:20250319T221508Z
X-HITS:412
X-URL:
X-COLOR:
END:VEVENT
END:VCALENDAR