BEGIN:VCALENDAR
VERSION:2.0
PRODID:DPCALENDAR
CALSCALE:GREGORIAN
X-WR-TIMEZONE:UTC
BEGIN:VEVENT
DTSTART;VALUE=DATE:20241012
DTEND;VALUE=DATE:20241013
UID:3c13471a36b70f887b3981f776e1a645
SUMMARY:25. Herbstmärt
DTSTAMP:20231226T182646Z
DESCRIPTION:
X-ALT-DESC;FMTTYPE=text/html:
LOCATION:Galgenen, Schwyz, Schweiz
GEO:47.18196380;8.87446050
X-ACCESS:1
X-MODIFIED:20240415T192237Z
X-HITS:528
X-URL:
X-COLOR:
END:VEVENT
END:VCALENDAR