BEGIN:VCALENDAR
VERSION:2.0
PRODID:DPCALENDAR
CALSCALE:GREGORIAN
X-WR-TIMEZONE:UTC
BEGIN:VEVENT
DTSTART;VALUE=DATE:20240817
DTEND;VALUE=DATE:20240818
UID:a3511d679723b1562ba2214696bdcf28
SUMMARY:Sommerfest
DTSTAMP:20231226T174917Z
DESCRIPTION:
X-ALT-DESC;FMTTYPE=text/html:
LOCATION:Galgenen, Schwyz, Schweiz
GEO:47.18196380;8.87446050
X-ACCESS:1
X-MODIFIED:20240719T195721Z
X-HITS:643
X-URL:
X-COLOR:
END:VEVENT
END:VCALENDAR